BEGIN:VCALENDAR
VERSION:2.0
PRODID:-//CAI Rovagnate - ECPv6.15.11//NONSGML v1.0//EN
CALSCALE:GREGORIAN
METHOD:PUBLISH
X-ORIGINAL-URL:https://www.cairovagnate.it
X-WR-CALDESC:Eventi per CAI Rovagnate
REFRESH-INTERVAL;VALUE=DURATION:PT1H
X-Robots-Tag:noindex
X-PUBLISHED-TTL:PT1H
BEGIN:VTIMEZONE
TZID:Europe/Rome
BEGIN:DAYLIGHT
TZOFFSETFROM:+0100
TZOFFSETTO:+0200
TZNAME:CEST
DTSTART:20230326T010000
END:DAYLIGHT
BEGIN:STANDARD
TZOFFSETFROM:+0200
TZOFFSETTO:+0100
TZNAME:CET
DTSTART:20231029T010000
END:STANDARD
BEGIN:DAYLIGHT
TZOFFSETFROM:+0100
TZOFFSETTO:+0200
TZNAME:CEST
DTSTART:20240331T010000
END:DAYLIGHT
BEGIN:STANDARD
TZOFFSETFROM:+0200
TZOFFSETTO:+0100
TZNAME:CET
DTSTART:20241027T010000
END:STANDARD
BEGIN:DAYLIGHT
TZOFFSETFROM:+0100
TZOFFSETTO:+0200
TZNAME:CEST
DTSTART:20250330T010000
END:DAYLIGHT
BEGIN:STANDARD
TZOFFSETFROM:+0200
TZOFFSETTO:+0100
TZNAME:CET
DTSTART:20251026T010000
END:STANDARD
END:VTIMEZONE
BEGIN:VEVENT
DTSTART;TZID=Europe/Rome:20241014T200000
DTEND;TZID=Europe/Rome:20241014T211500
DTSTAMP:20260423T010757
CREATED:20240916T115308Z
LAST-MODIFIED:20240916T120015Z
UID:645-1728936000-1728940500@www.cairovagnate.it
SUMMARY:Inizio Ginnastica presciistica - Turno 1
DESCRIPTION:
URL:https://www.cairovagnate.it/event/inizio-ginnastica-presciistica-turno-1/
LOCATION:Palestra scuole medie La Valletta Brianza\, Viale Rimembranze\, 7\, La Valletta Brianza\, Lecco\, 23888\, Italia
ORGANIZER;CN="CAI Rovagnate":MAILTO:cairovagnate@gmail.com
END:VEVENT
BEGIN:VEVENT
DTSTART;TZID=Europe/Rome:20241017T183000
DTEND;TZID=Europe/Rome:20241017T194500
DTSTAMP:20260423T010757
CREATED:20240916T115709Z
LAST-MODIFIED:20240916T115709Z
UID:648-1729189800-1729194300@www.cairovagnate.it
SUMMARY:Inizio Ginnastica presciistica - Turno 2
DESCRIPTION:
URL:https://www.cairovagnate.it/event/inizio-ginnastica-presciistica-turno-1-2/
LOCATION:Palestra Castello Brianza\, Via Alessandro Volta\, 12\, Castello Brianza\, Lecco\, 23888\, Italia
END:VEVENT
BEGIN:VEVENT
DTSTART;VALUE=DATE:20241020
DTEND;VALUE=DATE:20241021
DTSTAMP:20260423T010757
CREATED:20240304T160315Z
LAST-MODIFIED:20240404T163311Z
UID:571-1729382400-1729468799@www.cairovagnate.it
SUMMARY:Castagnata 2024
DESCRIPTION:
URL:https://www.cairovagnate.it/event/castagnata-2024/
LOCATION:San Nicola\, Colle Brianza (LC)
CATEGORIES:Attività sociali
ORGANIZER;CN="CAI Rovagnate":MAILTO:cairovagnate@gmail.com
END:VEVENT
END:VCALENDAR