BEGIN:VCALENDAR
VERSION:2.0
PRODID:-//CAI Rovagnate - ECPv6.15.11//NONSGML v1.0//EN
CALSCALE:GREGORIAN
METHOD:PUBLISH
X-WR-CALNAME:CAI Rovagnate
X-ORIGINAL-URL:https://www.cairovagnate.it
X-WR-CALDESC:Eventi per CAI Rovagnate
REFRESH-INTERVAL;VALUE=DURATION:PT1H
X-Robots-Tag:noindex
X-PUBLISHED-TTL:PT1H
BEGIN:VTIMEZONE
TZID:Europe/Rome
BEGIN:DAYLIGHT
TZOFFSETFROM:+0100
TZOFFSETTO:+0200
TZNAME:CEST
DTSTART:20230326T010000
END:DAYLIGHT
BEGIN:STANDARD
TZOFFSETFROM:+0200
TZOFFSETTO:+0100
TZNAME:CET
DTSTART:20231029T010000
END:STANDARD
BEGIN:DAYLIGHT
TZOFFSETFROM:+0100
TZOFFSETTO:+0200
TZNAME:CEST
DTSTART:20240331T010000
END:DAYLIGHT
BEGIN:STANDARD
TZOFFSETFROM:+0200
TZOFFSETTO:+0100
TZNAME:CET
DTSTART:20241027T010000
END:STANDARD
BEGIN:DAYLIGHT
TZOFFSETFROM:+0100
TZOFFSETTO:+0200
TZNAME:CEST
DTSTART:20250330T010000
END:DAYLIGHT
BEGIN:STANDARD
TZOFFSETFROM:+0200
TZOFFSETTO:+0100
TZNAME:CET
DTSTART:20251026T010000
END:STANDARD
END:VTIMEZONE
BEGIN:VEVENT
DTSTART;VALUE=DATE:20240421
DTEND;VALUE=DATE:20240422
DTSTAMP:20260420T092145
CREATED:20240309T101743Z
LAST-MODIFIED:20240404T163638Z
UID:588-1713657600-1713743999@www.cairovagnate.it
SUMMARY:Rovascarpa 2024
DESCRIPTION:Per maggiori informazioni clicca qui
URL:https://www.cairovagnate.it/event/rovascarpa-2024/
LOCATION:Lecco
CATEGORIES:Attività sociali
ORGANIZER;CN="CAI Rovagnate":MAILTO:cairovagnate@gmail.com
END:VEVENT
BEGIN:VEVENT
DTSTART;VALUE=DATE:20240421
DTEND;VALUE=DATE:20240422
DTSTAMP:20260420T092145
CREATED:20240304T155601Z
LAST-MODIFIED:20240404T163652Z
UID:547-1713657600-1713743999@www.cairovagnate.it
SUMMARY:AG - da definire
DESCRIPTION:
URL:https://www.cairovagnate.it/event/ag-sulla-neve/
LOCATION:Da definire
CATEGORIES:Alpinismo Giovanile
ATTACH;FMTTYPE=image/png:https://www.cairovagnate.it/wp-content/uploads/2024/02/Cai-rovagnate-barzano-montevecchia-merate.png
ORGANIZER;CN="CAI Rovagnate":MAILTO:cairovagnate@gmail.com
END:VEVENT
BEGIN:VEVENT
DTSTART;VALUE=DATE:20240414
DTEND;VALUE=DATE:20240415
DTSTAMP:20260420T092145
CREATED:20240304T125114Z
LAST-MODIFIED:20240404T163709Z
UID:508-1713052800-1713139199@www.cairovagnate.it
SUMMARY:FamilyCAI - Sasso Preguda
DESCRIPTION:Clicca qui per maggiori informazioni
URL:https://www.cairovagnate.it/event/familycai-sasso-preguda/
LOCATION:Sasso Preguda\, Sasso di Preguda e chiesetta di Sant'Isidoro\, Valmadrera\, Lecco\, 23868\, Italia
CATEGORIES:FamilyCAI
ATTACH;FMTTYPE=image/png:https://www.cairovagnate.it/wp-content/uploads/2024/01/Screenshot-2024-01-08-101302.png
ORGANIZER;CN="CAI Rovagnate":MAILTO:cairovagnate@gmail.com
END:VEVENT
BEGIN:VEVENT
DTSTART;VALUE=DATE:20240407
DTEND;VALUE=DATE:20240408
DTSTAMP:20260420T092145
CREATED:20240304T155332Z
LAST-MODIFIED:20240404T163723Z
UID:543-1712448000-1712534399@www.cairovagnate.it
SUMMARY:Gita al Mare
DESCRIPTION:
URL:https://www.cairovagnate.it/event/gita-al-mare/
LOCATION:Bocca di Magra (SP)
CATEGORIES:Escursionismo
ATTACH;FMTTYPE=image/png:https://www.cairovagnate.it/wp-content/uploads/2024/01/Schermata-2023-07-10-alle-16.46.11.png
ORGANIZER;CN="CAI Rovagnate":MAILTO:cairovagnate@gmail.com
END:VEVENT
BEGIN:VEVENT
DTSTART;VALUE=DATE:20240317
DTEND;VALUE=DATE:20240318
DTSTAMP:20260420T092145
CREATED:20240307T074701Z
LAST-MODIFIED:20240404T163739Z
UID:583-1710633600-1710719999@www.cairovagnate.it
SUMMARY:Gita sulla neve - Corvatsch
DESCRIPTION:Maggiori info qui
URL:https://www.cairovagnate.it/event/gita-sulla-neve/
LOCATION:Corvatsch (CH)
CATEGORIES:Attività sociali
ATTACH;FMTTYPE=image/png:https://www.cairovagnate.it/wp-content/uploads/2024/01/Screenshot-2024-01-08-100905.png
ORGANIZER;CN="CAI Rovagnate":MAILTO:cairovagnate@gmail.com
END:VEVENT
END:VCALENDAR