BEGIN:VCALENDAR
VERSION:2.0
PRODID:-//CAI Rovagnate - ECPv6.15.11//NONSGML v1.0//EN
CALSCALE:GREGORIAN
METHOD:PUBLISH
X-ORIGINAL-URL:https://www.cairovagnate.it
X-WR-CALDESC:Eventi per CAI Rovagnate
REFRESH-INTERVAL;VALUE=DURATION:PT1H
X-Robots-Tag:noindex
X-PUBLISHED-TTL:PT1H
BEGIN:VTIMEZONE
TZID:Europe/Rome
BEGIN:DAYLIGHT
TZOFFSETFROM:+0100
TZOFFSETTO:+0200
TZNAME:CEST
DTSTART:20230326T010000
END:DAYLIGHT
BEGIN:STANDARD
TZOFFSETFROM:+0200
TZOFFSETTO:+0100
TZNAME:CET
DTSTART:20231029T010000
END:STANDARD
BEGIN:DAYLIGHT
TZOFFSETFROM:+0100
TZOFFSETTO:+0200
TZNAME:CEST
DTSTART:20240331T010000
END:DAYLIGHT
BEGIN:STANDARD
TZOFFSETFROM:+0200
TZOFFSETTO:+0100
TZNAME:CET
DTSTART:20241027T010000
END:STANDARD
BEGIN:DAYLIGHT
TZOFFSETFROM:+0100
TZOFFSETTO:+0200
TZNAME:CEST
DTSTART:20250330T010000
END:DAYLIGHT
BEGIN:STANDARD
TZOFFSETFROM:+0200
TZOFFSETTO:+0100
TZNAME:CET
DTSTART:20251026T010000
END:STANDARD
BEGIN:DAYLIGHT
TZOFFSETFROM:+0100
TZOFFSETTO:+0200
TZNAME:CEST
DTSTART:20260329T010000
END:DAYLIGHT
BEGIN:STANDARD
TZOFFSETFROM:+0200
TZOFFSETTO:+0100
TZNAME:CET
DTSTART:20261025T010000
END:STANDARD
END:VTIMEZONE
BEGIN:VEVENT
DTSTART;VALUE=DATE:20251005
DTEND;VALUE=DATE:20251006
DTSTAMP:20260419T205137
CREATED:20250427T155401Z
LAST-MODIFIED:20250427T155401Z
UID:812-1759622400-1759708799@www.cairovagnate.it
SUMMARY:Juniores - Punta Marinelli
DESCRIPTION:
URL:https://www.cairovagnate.it/event/juniores-punta-marinelli/
CATEGORIES:Juniores
END:VEVENT
BEGIN:VEVENT
DTSTART;VALUE=DATE:20250928
DTEND;VALUE=DATE:20250929
DTSTAMP:20260419T205137
CREATED:20250427T155301Z
LAST-MODIFIED:20250427T155301Z
UID:808-1759017600-1759103999@www.cairovagnate.it
SUMMARY:Escursionismo - Pizzo Arera
DESCRIPTION:
URL:https://www.cairovagnate.it/event/escursionismo-pizzo-arera/
CATEGORIES:Escursionismo
END:VEVENT
BEGIN:VEVENT
DTSTART;VALUE=DATE:20250914
DTEND;VALUE=DATE:20250915
DTSTAMP:20260419T205137
CREATED:20250427T155232Z
LAST-MODIFIED:20250427T155232Z
UID:806-1757808000-1757894399@www.cairovagnate.it
SUMMARY:Cicloescursionismo
DESCRIPTION:
URL:https://www.cairovagnate.it/event/cicloescursionismo/
CATEGORIES:Cicloescursionismo
END:VEVENT
BEGIN:VEVENT
DTSTART;VALUE=DATE:20250907
DTEND;VALUE=DATE:20250908
DTSTAMP:20260419T205137
CREATED:20250427T155209Z
LAST-MODIFIED:20250427T155209Z
UID:804-1757203200-1757289599@www.cairovagnate.it
SUMMARY:AG - Arrampicata al Mottarone
DESCRIPTION:
URL:https://www.cairovagnate.it/event/ag-arrampicata-al-mottarone/
CATEGORIES:Alpinismo Giovanile
END:VEVENT
BEGIN:VEVENT
DTSTART;VALUE=DATE:20250719
DTEND;VALUE=DATE:20250720
DTSTAMP:20260419T205137
CREATED:20250427T155117Z
LAST-MODIFIED:20250427T155128Z
UID:801-1752883200-1752969599@www.cairovagnate.it
SUMMARY:AG - Monte Barro (in notturna)
DESCRIPTION:
URL:https://www.cairovagnate.it/event/ag-monte-barro-in-notturna/
CATEGORIES:Alpinismo Giovanile
END:VEVENT
BEGIN:VEVENT
DTSTART;VALUE=DATE:20250713
DTEND;VALUE=DATE:20250714
DTSTAMP:20260419T205137
CREATED:20250427T155038Z
LAST-MODIFIED:20250427T155038Z
UID:799-1752364800-1752451199@www.cairovagnate.it
SUMMARY:Escursionismo - Legnone
DESCRIPTION:
URL:https://www.cairovagnate.it/event/escursionismo-legnone/
CATEGORIES:Escursionismo
END:VEVENT
BEGIN:VEVENT
DTSTART;VALUE=DATE:20250706
DTEND;VALUE=DATE:20250707
DTSTAMP:20260419T205137
CREATED:20250427T154959Z
LAST-MODIFIED:20250427T154959Z
UID:797-1751760000-1751846399@www.cairovagnate.it
SUMMARY:Escursionismo - Grevasalvas
DESCRIPTION:In collaborazione con scuola di escursionismo 6blec
URL:https://www.cairovagnate.it/event/escursionismo-grevasalvas/
CATEGORIES:Escursionismo
END:VEVENT
BEGIN:VEVENT
DTSTART;VALUE=DATE:20250628
DTEND;VALUE=DATE:20250630
DTSTAMP:20260419T205137
CREATED:20250427T154815Z
LAST-MODIFIED:20250427T154815Z
UID:794-1751068800-1751241599@www.cairovagnate.it
SUMMARY:Alpinistica - Monte Antelao (Dolomiti)
DESCRIPTION:
URL:https://www.cairovagnate.it/event/alpinistica-monte-antelao-dolomiti/
CATEGORIES:Alpinismo
END:VEVENT
BEGIN:VEVENT
DTSTART;VALUE=DATE:20250621
DTEND;VALUE=DATE:20250623
DTSTAMP:20260419T205137
CREATED:20250427T154733Z
LAST-MODIFIED:20250427T154733Z
UID:791-1750464000-1750636799@www.cairovagnate.it
SUMMARY:AG - Rifugio ARP
DESCRIPTION:
URL:https://www.cairovagnate.it/event/ag-rifugio-arp/
CATEGORIES:Alpinismo Giovanile
END:VEVENT
BEGIN:VEVENT
DTSTART;VALUE=DATE:20250614
DTEND;VALUE=DATE:20250616
DTSTAMP:20260419T205137
CREATED:20250427T154705Z
LAST-MODIFIED:20250427T160236Z
UID:788-1749859200-1750031999@www.cairovagnate.it
SUMMARY:Campeggio
DESCRIPTION:
URL:https://www.cairovagnate.it/event/campeggio-2/
CATEGORIES:Attività sociali
END:VEVENT
BEGIN:VEVENT
DTSTART;VALUE=DATE:20250525
DTEND;VALUE=DATE:20250526
DTSTAMP:20260419T205137
CREATED:20250427T154635Z
LAST-MODIFIED:20250427T154635Z
UID:785-1748131200-1748217599@www.cairovagnate.it
SUMMARY:Juniores - Ferrata Minonzio
DESCRIPTION:
URL:https://www.cairovagnate.it/event/juniores-ferrata-minonzio/
CATEGORIES:Juniores
END:VEVENT
BEGIN:VEVENT
DTSTART;VALUE=DATE:20250525
DTEND;VALUE=DATE:20250526
DTSTAMP:20260419T205137
CREATED:20250427T154531Z
LAST-MODIFIED:20250427T154531Z
UID:783-1748131200-1748217599@www.cairovagnate.it
SUMMARY:Rovascarpa
DESCRIPTION:
URL:https://www.cairovagnate.it/event/rovascarpa/
CATEGORIES:Attività sociali
END:VEVENT
BEGIN:VEVENT
DTSTART;VALUE=DATE:20250511
DTEND;VALUE=DATE:20250512
DTSTAMP:20260419T205137
CREATED:20250127T174313Z
LAST-MODIFIED:20250127T174918Z
UID:743-1746921600-1747007999@www.cairovagnate.it
SUMMARY:AG - Monte Misma
DESCRIPTION:
URL:https://www.cairovagnate.it/event/ag-monte-misma/
LOCATION:Monte Misma\, Pradalunga\, Bergamo\, 24020\, Italy
CATEGORIES:Alpinismo Giovanile
ATTACH;FMTTYPE=image/png:https://www.cairovagnate.it/wp-content/uploads/2025/01/Logo_Alpinismo_Giovanile.png
ORGANIZER;CN="CAI Rovagnate":MAILTO:cairovagnate@gmail.com
END:VEVENT
BEGIN:VEVENT
DTSTART;VALUE=DATE:20250504
DTEND;VALUE=DATE:20250505
DTSTAMP:20260419T205137
CREATED:20250127T174557Z
LAST-MODIFIED:20250427T154407Z
UID:746-1746316800-1746403199@www.cairovagnate.it
SUMMARY:Escursionismo - Monte San Primo
DESCRIPTION:
URL:https://www.cairovagnate.it/event/escursionismo-corno-birone-monte-rai-e-cornizzolo/
CATEGORIES:Escursionismo
ATTACH;FMTTYPE=image/jpeg:https://www.cairovagnate.it/wp-content/uploads/2025/01/licensed-image.jpeg
ORGANIZER;CN="CAI Rovagnate":MAILTO:cairovagnate@gmail.com
END:VEVENT
BEGIN:VEVENT
DTSTART;VALUE=DATE:20250413
DTEND;VALUE=DATE:20250414
DTSTAMP:20260419T205137
CREATED:20250127T174858Z
LAST-MODIFIED:20250127T175051Z
UID:749-1744502400-1744588799@www.cairovagnate.it
SUMMARY:AG - Diga del Gleno
DESCRIPTION:
URL:https://www.cairovagnate.it/event/ag-diga-del-gleno/
LOCATION:Diga del Gleno\, Vilminore di Scalve\, Bergamo\, 24020\, Italy
CATEGORIES:Alpinismo Giovanile
ATTACH;FMTTYPE=image/png:https://www.cairovagnate.it/wp-content/uploads/2025/01/Logo_Alpinismo_Giovanile.png
ORGANIZER;CN="CAI Rovagnate":MAILTO:cairovagnate@gmail.com
END:VEVENT
BEGIN:VEVENT
DTSTART;VALUE=DATE:20250406
DTEND;VALUE=DATE:20250407
DTSTAMP:20260419T205137
CREATED:20250127T174046Z
LAST-MODIFIED:20250127T174046Z
UID:741-1743897600-1743983999@www.cairovagnate.it
SUMMARY:Escursionismo - Gita al mare
DESCRIPTION:
URL:https://www.cairovagnate.it/event/escursionismo-gita-al-mare/
LOCATION:Da definire
CATEGORIES:Escursionismo
ATTACH;FMTTYPE=image/png:https://www.cairovagnate.it/wp-content/uploads/2024/01/Schermata-2023-07-10-alle-16.46.11.png
ORGANIZER;CN="CAI Rovagnate":MAILTO:cairovagnate@gmail.com
END:VEVENT
BEGIN:VEVENT
DTSTART;TZID=Europe/Rome:20250328T210000
DTEND;TZID=Europe/Rome:20250328T220000
DTSTAMP:20260419T205137
CREATED:20250323T134411Z
LAST-MODIFIED:20250323T134411Z
UID:775-1743195600-1743199200@www.cairovagnate.it
SUMMARY:Assemblea annuale dei soci
DESCRIPTION:
URL:https://www.cairovagnate.it/event/assemblea-annuale-dei-soci/
LOCATION:Sede CAI Rovagnate – Stadio Idealità\, Via Statale\, 29\, La Valletta Brianza\, Lecco\, 23888\, Italy
CATEGORIES:Attività sociali
ATTACH;FMTTYPE=image/png:https://www.cairovagnate.it/wp-content/uploads/2025/03/avviso-di-convocazione.png
ORGANIZER;CN="CAI Rovagnate":MAILTO:cairovagnate@gmail.com
END:VEVENT
BEGIN:VEVENT
DTSTART;VALUE=DATE:20250316
DTEND;VALUE=DATE:20250317
DTSTAMP:20260419T205137
CREATED:20250127T173934Z
LAST-MODIFIED:20250127T173934Z
UID:739-1742083200-1742169599@www.cairovagnate.it
SUMMARY:Sciistica Famiglie
DESCRIPTION:
URL:https://www.cairovagnate.it/event/sciistica-famiglie/
LOCATION:Da definire
CATEGORIES:FamilyCAI
ATTACH;FMTTYPE=image/png:https://www.cairovagnate.it/wp-content/uploads/2024/01/Screenshot-2024-01-08-100905.png
ORGANIZER;CN="CAI Rovagnate":MAILTO:cairovagnate@gmail.com
END:VEVENT
BEGIN:VEVENT
DTSTART;VALUE=DATE:20250302
DTEND;VALUE=DATE:20250303
DTSTAMP:20260419T205137
CREATED:20250127T173804Z
LAST-MODIFIED:20250127T173835Z
UID:736-1740873600-1740959999@www.cairovagnate.it
SUMMARY:AG - Ciaspolata ad Artavaggio
DESCRIPTION:
URL:https://www.cairovagnate.it/event/ag-ciaspolata-ad-artavaggio/
LOCATION:Piani di Artavaggio (LC)
CATEGORIES:Alpinismo Giovanile
ATTACH;FMTTYPE=image/png:https://www.cairovagnate.it/wp-content/uploads/2025/01/Logo_Alpinismo_Giovanile.png
END:VEVENT
BEGIN:VEVENT
DTSTART;VALUE=DATE:20250209
DTEND;VALUE=DATE:20250210
DTSTAMP:20260419T205137
CREATED:20250127T173547Z
LAST-MODIFIED:20250127T173547Z
UID:733-1739059200-1739145599@www.cairovagnate.it
SUMMARY:Juniores - Bivacco Cecchini
DESCRIPTION:
URL:https://www.cairovagnate.it/event/juniores-bivacco-cecchini/
LOCATION:Bivacco Cecchini
CATEGORIES:Juniores
ATTACH;FMTTYPE=image/jpeg:https://www.cairovagnate.it/wp-content/uploads/2023/10/Immagine-WhatsApp-2023-10-09-ore-17.41.17_37da88a1.jpg
ORGANIZER;CN="CAI Rovagnate":MAILTO:cairovagnate@gmail.com
END:VEVENT
BEGIN:VEVENT
DTSTART;TZID=Europe/Rome:20241220T203000
DTEND;TZID=Europe/Rome:20241220T233000
DTSTAMP:20260419T205137
CREATED:20241010T123638Z
LAST-MODIFIED:20241010T123703Z
UID:662-1734726600-1734737400@www.cairovagnate.it
SUMMARY:Natale insieme
DESCRIPTION:
URL:https://www.cairovagnate.it/event/natale-insieme/
LOCATION:Sede CAI Rovagnate – Stadio Idealità\, Via Statale\, 29\, La Valletta Brianza\, Lecco\, 23888\, Italy
CATEGORIES:Attività sociali
END:VEVENT
BEGIN:VEVENT
DTSTART;TZID=Europe/Rome:20241123T193000
DTEND;TZID=Europe/Rome:20241123T233000
DTSTAMP:20260419T205137
CREATED:20241010T123317Z
LAST-MODIFIED:20241029T105516Z
UID:660-1732390200-1732404600@www.cairovagnate.it
SUMMARY:Cena sociale
DESCRIPTION:Maggiori informazioni QUI
URL:https://www.cairovagnate.it/event/cena-sociale/
LOCATION:Eremo del Monte Barro\, Località Monte Barro\, Galbiate\, Lecco\, 23851\, Italy
CATEGORIES:Attività sociali
ATTACH;FMTTYPE=image/jpeg:https://www.cairovagnate.it/wp-content/uploads/2024/10/Immagine-WhatsApp-2024-10-28-ore-21.20.32_e3647fba.jpg
ORGANIZER;CN="CAI Rovagnate":MAILTO:cairovagnate@gmail.com
END:VEVENT
BEGIN:VEVENT
DTSTART;TZID=Europe/Rome:20241120T203000
DTEND;TZID=Europe/Rome:20241120T213000
DTSTAMP:20260419T205137
CREATED:20241010T123147Z
LAST-MODIFIED:20241029T105127Z
UID:657-1732134600-1732138200@www.cairovagnate.it
SUMMARY:S. Messa in ricordo dei soci defunti
DESCRIPTION:
URL:https://www.cairovagnate.it/event/s-messa-in-ricordo-dei-soci-defunti/
LOCATION:Chiesetta di San Rocco in Cereda\, loc. Cereda\, La Valletta Brianza\, Lecco\, 23888\, Italy
CATEGORIES:Attività sociali
ATTACH;FMTTYPE=image/jpeg:https://www.cairovagnate.it/wp-content/uploads/2024/10/Immagine-WhatsApp-2024-10-26-ore-13.34.43_d168d5d4.jpg
ORGANIZER;CN="CAI Rovagnate":MAILTO:cairovagnate@gmail.com
END:VEVENT
BEGIN:VEVENT
DTSTART;VALUE=DATE:20241117
DTEND;VALUE=DATE:20241118
DTSTAMP:20260419T205137
CREATED:20241010T122547Z
LAST-MODIFIED:20241105T145048Z
UID:652-1731801600-1731887999@www.cairovagnate.it
SUMMARY:Naturalistica - Orrido di Bellano
DESCRIPTION:
URL:https://www.cairovagnate.it/event/naturalistica-orrido-di-bellano/
LOCATION:Orrido di Bellano\, Piazza S. Giorgio\,\, Bellano\, Lecco\, 23822\, Italy
CATEGORIES:Escursionismo
ATTACH;FMTTYPE=image/jpeg:https://www.cairovagnate.it/wp-content/uploads/2024/10/passerelle_orrido_3.jpg
ORGANIZER;CN="CAI Rovagnate":MAILTO:cairovagnate@gmail.com
END:VEVENT
BEGIN:VEVENT
DTSTART;VALUE=DATE:20241020
DTEND;VALUE=DATE:20241021
DTSTAMP:20260419T205137
CREATED:20240304T160315Z
LAST-MODIFIED:20240404T163311Z
UID:571-1729382400-1729468799@www.cairovagnate.it
SUMMARY:Castagnata 2024
DESCRIPTION:
URL:https://www.cairovagnate.it/event/castagnata-2024/
LOCATION:San Nicola\, Colle Brianza (LC)
CATEGORIES:Attività sociali
ORGANIZER;CN="CAI Rovagnate":MAILTO:cairovagnate@gmail.com
END:VEVENT
BEGIN:VEVENT
DTSTART;TZID=Europe/Rome:20241017T183000
DTEND;TZID=Europe/Rome:20241017T194500
DTSTAMP:20260419T205137
CREATED:20240916T115709Z
LAST-MODIFIED:20240916T115709Z
UID:648-1729189800-1729194300@www.cairovagnate.it
SUMMARY:Inizio Ginnastica presciistica - Turno 2
DESCRIPTION:
URL:https://www.cairovagnate.it/event/inizio-ginnastica-presciistica-turno-1-2/
LOCATION:Palestra Castello Brianza\, Via Alessandro Volta\, 12\, Castello Brianza\, Lecco\, 23888\, Italia
END:VEVENT
BEGIN:VEVENT
DTSTART;TZID=Europe/Rome:20241014T200000
DTEND;TZID=Europe/Rome:20241014T211500
DTSTAMP:20260419T205137
CREATED:20240916T115308Z
LAST-MODIFIED:20240916T120015Z
UID:645-1728936000-1728940500@www.cairovagnate.it
SUMMARY:Inizio Ginnastica presciistica - Turno 1
DESCRIPTION:
URL:https://www.cairovagnate.it/event/inizio-ginnastica-presciistica-turno-1/
LOCATION:Palestra scuole medie La Valletta Brianza\, Viale Rimembranze\, 7\, La Valletta Brianza\, Lecco\, 23888\, Italia
ORGANIZER;CN="CAI Rovagnate":MAILTO:cairovagnate@gmail.com
END:VEVENT
BEGIN:VEVENT
DTSTART;VALUE=DATE:20240929
DTEND;VALUE=DATE:20240930
DTSTAMP:20260419T205137
CREATED:20240304T155731Z
LAST-MODIFIED:20240404T163338Z
UID:552-1727568000-1727654399@www.cairovagnate.it
SUMMARY:AG - Cresta della Giumenta
DESCRIPTION:
URL:https://www.cairovagnate.it/event/cresta-della-giumenta/
LOCATION:Cresta della Giumenta\, Lecco
CATEGORIES:Alpinismo Giovanile
ATTACH;FMTTYPE=image/png:https://www.cairovagnate.it/wp-content/uploads/2024/02/Cai-rovagnate-barzano-montevecchia-merate.png
ORGANIZER;CN="CAI Rovagnate":MAILTO:cairovagnate@gmail.com
END:VEVENT
BEGIN:VEVENT
DTSTART;VALUE=DATE:20240922
DTEND;VALUE=DATE:20240923
DTSTAMP:20260419T205137
CREATED:20240304T154412Z
LAST-MODIFIED:20240404T163355Z
UID:520-1726963200-1727049599@www.cairovagnate.it
SUMMARY:Escursionismo - ValMalenco
DESCRIPTION:
URL:https://www.cairovagnate.it/event/escursionismo-valmalenco/
LOCATION:Rifugio Marinelli – Chiesa in Valmalenco
CATEGORIES:Escursionismo
ATTACH;FMTTYPE=image/jpeg:https://www.cairovagnate.it/wp-content/uploads/2024/01/109726129_10222681784574751_7465173808384266843_o.jpg
ORGANIZER;CN="CAI Rovagnate":MAILTO:cairovagnate@gmail.com
END:VEVENT
BEGIN:VEVENT
DTSTART;VALUE=DATE:20240908
DTEND;VALUE=DATE:20240909
DTSTAMP:20260419T205137
CREATED:20240304T160227Z
LAST-MODIFIED:20240404T163414Z
UID:567-1725753600-1725839999@www.cairovagnate.it
SUMMARY:AG - Val di Mello
DESCRIPTION:
URL:https://www.cairovagnate.it/event/ag-val-di-mello/
LOCATION:Val di Mello (SO)
CATEGORIES:Alpinismo Giovanile
ATTACH;FMTTYPE=image/png:https://www.cairovagnate.it/wp-content/uploads/2024/02/Cai-rovagnate-barzano-montevecchia-merate.png
ORGANIZER;CN="CAI Rovagnate":MAILTO:cairovagnate@gmail.com
END:VEVENT
END:VCALENDAR