BEGIN:VCALENDAR
VERSION:2.0
PRODID:-//CAI Rovagnate - ECPv6.15.11//NONSGML v1.0//EN
CALSCALE:GREGORIAN
METHOD:PUBLISH
X-ORIGINAL-URL:https://www.cairovagnate.it
X-WR-CALDESC:Eventi per CAI Rovagnate
REFRESH-INTERVAL;VALUE=DURATION:PT1H
X-Robots-Tag:noindex
X-PUBLISHED-TTL:PT1H
BEGIN:VTIMEZONE
TZID:Europe/Rome
BEGIN:DAYLIGHT
TZOFFSETFROM:+0100
TZOFFSETTO:+0200
TZNAME:CEST
DTSTART:20250330T010000
END:DAYLIGHT
BEGIN:STANDARD
TZOFFSETFROM:+0200
TZOFFSETTO:+0100
TZNAME:CET
DTSTART:20251026T010000
END:STANDARD
BEGIN:DAYLIGHT
TZOFFSETFROM:+0100
TZOFFSETTO:+0200
TZNAME:CEST
DTSTART:20260329T010000
END:DAYLIGHT
BEGIN:STANDARD
TZOFFSETFROM:+0200
TZOFFSETTO:+0100
TZNAME:CET
DTSTART:20261025T010000
END:STANDARD
BEGIN:DAYLIGHT
TZOFFSETFROM:+0100
TZOFFSETTO:+0200
TZNAME:CEST
DTSTART:20270328T010000
END:DAYLIGHT
BEGIN:STANDARD
TZOFFSETFROM:+0200
TZOFFSETTO:+0100
TZNAME:CET
DTSTART:20271031T010000
END:STANDARD
END:VTIMEZONE
BEGIN:VEVENT
DTSTART;VALUE=DATE:20260502
DTEND;VALUE=DATE:20260503
DTSTAMP:20260420T073412
CREATED:20260131T123021Z
LAST-MODIFIED:20260131T123021Z
UID:933-1777680000-1777766399@www.cairovagnate.it
SUMMARY:Canale dei Camosci - Piani di Bobbio
DESCRIPTION:
URL:https://www.cairovagnate.it/event/canale-dei-camosci-piani-di-bobbio/
CATEGORIES:Juniores
ATTACH;FMTTYPE=image/jpeg:https://www.cairovagnate.it/wp-content/uploads/2026/01/campelli-zuccone-da-moggio-per-il-canalone-dei-camosci_aaec.jpg
END:VEVENT
BEGIN:VEVENT
DTSTART;VALUE=DATE:20260517
DTEND;VALUE=DATE:20260518
DTSTAMP:20260420T073412
CREATED:20260131T123150Z
LAST-MODIFIED:20260131T123150Z
UID:936-1778976000-1779062399@www.cairovagnate.it
SUMMARY:Grotta Europa - Valle Imagna
DESCRIPTION:
URL:https://www.cairovagnate.it/event/grotta-europa-valle-imagna/
CATEGORIES:Alpinismo Giovanile
ATTACH;FMTTYPE=image/jpeg:https://www.cairovagnate.it/wp-content/uploads/2026/01/4b4868_f5a69df475f3474b902890a46b3f935bmv2.jpg
END:VEVENT
BEGIN:VEVENT
DTSTART;VALUE=DATE:20260607
DTEND;VALUE=DATE:20260608
DTSTAMP:20260420T073412
CREATED:20260131T123227Z
LAST-MODIFIED:20260131T123708Z
UID:940-1780790400-1780876799@www.cairovagnate.it
SUMMARY:Cicloescursionismo - Meta da definire
DESCRIPTION:
URL:https://www.cairovagnate.it/event/cicloescursionismo-da-definire/
CATEGORIES:Cicloescursionismo
END:VEVENT
BEGIN:VEVENT
DTSTART;VALUE=DATE:20260620
DTEND;VALUE=DATE:20260622
DTSTAMP:20260420T073412
CREATED:20260131T123436Z
LAST-MODIFIED:20260131T123436Z
UID:943-1781913600-1782086399@www.cairovagnate.it
SUMMARY:Rif. Vittorio Emanuele II - Gran Paradiso
DESCRIPTION:
URL:https://www.cairovagnate.it/event/rif-vittorio-emanuele-ii-gran-paradiso/
CATEGORIES:Alpinismo Giovanile
ATTACH;FMTTYPE=image/jpeg:https://www.cairovagnate.it/wp-content/uploads/2026/01/32332.jpeg
END:VEVENT
BEGIN:VEVENT
DTSTART;VALUE=DATE:20260627
DTEND;VALUE=DATE:20260629
DTSTAMP:20260420T073412
CREATED:20260131T123556Z
LAST-MODIFIED:20260131T123556Z
UID:946-1782518400-1782691199@www.cairovagnate.it
SUMMARY:Catinaccio d'Antermoia
DESCRIPTION:
URL:https://www.cairovagnate.it/event/catinaccio-dantermoia/
CATEGORIES:Alpinismo
END:VEVENT
END:VCALENDAR