BEGIN:VCALENDAR
VERSION:2.0
PRODID:-//CAI Rovagnate - ECPv6.15.11//NONSGML v1.0//EN
CALSCALE:GREGORIAN
METHOD:PUBLISH
X-WR-CALNAME:CAI Rovagnate
X-ORIGINAL-URL:https://www.cairovagnate.it
X-WR-CALDESC:Eventi per CAI Rovagnate
REFRESH-INTERVAL;VALUE=DURATION:PT1H
X-Robots-Tag:noindex
X-PUBLISHED-TTL:PT1H
BEGIN:VTIMEZONE
TZID:Europe/Rome
BEGIN:DAYLIGHT
TZOFFSETFROM:+0100
TZOFFSETTO:+0200
TZNAME:CEST
DTSTART:20240331T010000
END:DAYLIGHT
BEGIN:STANDARD
TZOFFSETFROM:+0200
TZOFFSETTO:+0100
TZNAME:CET
DTSTART:20241027T010000
END:STANDARD
BEGIN:DAYLIGHT
TZOFFSETFROM:+0100
TZOFFSETTO:+0200
TZNAME:CEST
DTSTART:20250330T010000
END:DAYLIGHT
BEGIN:STANDARD
TZOFFSETFROM:+0200
TZOFFSETTO:+0100
TZNAME:CET
DTSTART:20251026T010000
END:STANDARD
BEGIN:DAYLIGHT
TZOFFSETFROM:+0100
TZOFFSETTO:+0200
TZNAME:CEST
DTSTART:20260329T010000
END:DAYLIGHT
BEGIN:STANDARD
TZOFFSETFROM:+0200
TZOFFSETTO:+0100
TZNAME:CET
DTSTART:20261025T010000
END:STANDARD
BEGIN:DAYLIGHT
TZOFFSETFROM:+0100
TZOFFSETTO:+0200
TZNAME:CEST
DTSTART:20270328T010000
END:DAYLIGHT
BEGIN:STANDARD
TZOFFSETFROM:+0200
TZOFFSETTO:+0100
TZNAME:CET
DTSTART:20271031T010000
END:STANDARD
END:VTIMEZONE
BEGIN:VEVENT
DTSTART;VALUE=DATE:20251223
DTEND;VALUE=DATE:20251224
DTSTAMP:20260420T061146
CREATED:20250427T155955Z
LAST-MODIFIED:20250427T155955Z
UID:833-1766448000-1766534399@www.cairovagnate.it
SUMMARY:Escursionismo - M.te Cornizzolo (Fiaccolata dell'antivigilia)
DESCRIPTION:
URL:https://www.cairovagnate.it/event/escursionismo-m-te-cornizzolo-fiaccolata-dellantivigilia/
CATEGORIES:Escursionismo
END:VEVENT
BEGIN:VEVENT
DTSTART;VALUE=DATE:20260412
DTEND;VALUE=DATE:20260413
DTSTAMP:20260420T061146
CREATED:20260131T122454Z
LAST-MODIFIED:20260227T214458Z
UID:925-1775952000-1776038399@www.cairovagnate.it
SUMMARY:Mont'Isola - Lago di Iseo
DESCRIPTION:
URL:https://www.cairovagnate.it/event/montisola-lago-di-iseo/
CATEGORIES:Escursionismo
ATTACH;FMTTYPE=image/jpeg:https://www.cairovagnate.it/wp-content/uploads/2026/01/IMG_9170-min-scaled-1.jpg
END:VEVENT
END:VCALENDAR