BEGIN:VCALENDAR
VERSION:2.0
PRODID:-//CAI Rovagnate - ECPv6.15.11//NONSGML v1.0//EN
CALSCALE:GREGORIAN
METHOD:PUBLISH
X-WR-CALNAME:CAI Rovagnate
X-ORIGINAL-URL:https://www.cairovagnate.it
X-WR-CALDESC:Eventi per CAI Rovagnate
REFRESH-INTERVAL;VALUE=DURATION:PT1H
X-Robots-Tag:noindex
X-PUBLISHED-TTL:PT1H
BEGIN:VTIMEZONE
TZID:Europe/Rome
BEGIN:DAYLIGHT
TZOFFSETFROM:+0100
TZOFFSETTO:+0200
TZNAME:CEST
DTSTART:20230326T010000
END:DAYLIGHT
BEGIN:STANDARD
TZOFFSETFROM:+0200
TZOFFSETTO:+0100
TZNAME:CET
DTSTART:20231029T010000
END:STANDARD
BEGIN:DAYLIGHT
TZOFFSETFROM:+0100
TZOFFSETTO:+0200
TZNAME:CEST
DTSTART:20240331T010000
END:DAYLIGHT
BEGIN:STANDARD
TZOFFSETFROM:+0200
TZOFFSETTO:+0100
TZNAME:CET
DTSTART:20241027T010000
END:STANDARD
BEGIN:DAYLIGHT
TZOFFSETFROM:+0100
TZOFFSETTO:+0200
TZNAME:CEST
DTSTART:20250330T010000
END:DAYLIGHT
BEGIN:STANDARD
TZOFFSETFROM:+0200
TZOFFSETTO:+0100
TZNAME:CET
DTSTART:20251026T010000
END:STANDARD
END:VTIMEZONE
BEGIN:VEVENT
DTSTART;TZID=Europe/Rome:20241120T203000
DTEND;TZID=Europe/Rome:20241120T213000
DTSTAMP:20260423T014857
CREATED:20241010T123147Z
LAST-MODIFIED:20241029T105127Z
UID:657-1732134600-1732138200@www.cairovagnate.it
SUMMARY:S. Messa in ricordo dei soci defunti
DESCRIPTION:
URL:https://www.cairovagnate.it/event/s-messa-in-ricordo-dei-soci-defunti/
LOCATION:Chiesetta di San Rocco in Cereda\, loc. Cereda\, La Valletta Brianza\, Lecco\, 23888\, Italy
CATEGORIES:Attività sociali
ATTACH;FMTTYPE=image/jpeg:https://www.cairovagnate.it/wp-content/uploads/2024/10/Immagine-WhatsApp-2024-10-26-ore-13.34.43_d168d5d4.jpg
ORGANIZER;CN="CAI Rovagnate":MAILTO:cairovagnate@gmail.com
END:VEVENT
END:VCALENDAR