BEGIN:VCALENDAR
VERSION:2.0
PRODID:-//CAI Rovagnate - ECPv6.15.11//NONSGML v1.0//EN
CALSCALE:GREGORIAN
METHOD:PUBLISH
X-WR-CALNAME:CAI Rovagnate
X-ORIGINAL-URL:https://www.cairovagnate.it
X-WR-CALDESC:Eventi per CAI Rovagnate
REFRESH-INTERVAL;VALUE=DURATION:PT1H
X-Robots-Tag:noindex
X-PUBLISHED-TTL:PT1H
BEGIN:VTIMEZONE
TZID:Europe/Rome
BEGIN:DAYLIGHT
TZOFFSETFROM:+0100
TZOFFSETTO:+0200
TZNAME:CEST
DTSTART:20240331T010000
END:DAYLIGHT
BEGIN:STANDARD
TZOFFSETFROM:+0200
TZOFFSETTO:+0100
TZNAME:CET
DTSTART:20241027T010000
END:STANDARD
BEGIN:DAYLIGHT
TZOFFSETFROM:+0100
TZOFFSETTO:+0200
TZNAME:CEST
DTSTART:20250330T010000
END:DAYLIGHT
BEGIN:STANDARD
TZOFFSETFROM:+0200
TZOFFSETTO:+0100
TZNAME:CET
DTSTART:20251026T010000
END:STANDARD
BEGIN:DAYLIGHT
TZOFFSETFROM:+0100
TZOFFSETTO:+0200
TZNAME:CEST
DTSTART:20260329T010000
END:DAYLIGHT
BEGIN:STANDARD
TZOFFSETFROM:+0200
TZOFFSETTO:+0100
TZNAME:CET
DTSTART:20261025T010000
END:STANDARD
BEGIN:DAYLIGHT
TZOFFSETFROM:+0100
TZOFFSETTO:+0200
TZNAME:CEST
DTSTART:20270328T010000
END:DAYLIGHT
BEGIN:STANDARD
TZOFFSETFROM:+0200
TZOFFSETTO:+0100
TZNAME:CET
DTSTART:20271031T010000
END:STANDARD
END:VTIMEZONE
BEGIN:VEVENT
DTSTART;VALUE=DATE:20251119
DTEND;VALUE=DATE:20251120
DTSTAMP:20260420T081037
CREATED:20250427T155806Z
LAST-MODIFIED:20250427T155806Z
UID:825-1763510400-1763596799@www.cairovagnate.it
SUMMARY:S. Messa in ricordo dei soci defunti
DESCRIPTION:
URL:https://www.cairovagnate.it/event/s-messa-in-ricordo-dei-soci-defunti-2/
CATEGORIES:Attività sociali
END:VEVENT
BEGIN:VEVENT
DTSTART;VALUE=DATE:20251122
DTEND;VALUE=DATE:20251123
DTSTAMP:20260420T081037
CREATED:20250427T155827Z
LAST-MODIFIED:20250427T155827Z
UID:827-1763769600-1763855999@www.cairovagnate.it
SUMMARY:Cena sociale
DESCRIPTION:
URL:https://www.cairovagnate.it/event/cena-sociale-2/
CATEGORIES:Attività sociali
END:VEVENT
BEGIN:VEVENT
DTSTART;VALUE=DATE:20251219
DTEND;VALUE=DATE:20251220
DTSTAMP:20260420T081037
CREATED:20250427T155903Z
LAST-MODIFIED:20250427T155903Z
UID:830-1766102400-1766188799@www.cairovagnate.it
SUMMARY:Scambio di Auguri in sede
DESCRIPTION:
URL:https://www.cairovagnate.it/event/scambio-di-auguri-in-sede/
CATEGORIES:Attività sociali
END:VEVENT
BEGIN:VEVENT
DTSTART;VALUE=DATE:20260315
DTEND;VALUE=DATE:20260316
DTSTAMP:20260420T081037
CREATED:20260131T122306Z
LAST-MODIFIED:20260227T214330Z
UID:922-1773532800-1773619199@www.cairovagnate.it
SUMMARY:Sciistica famiglie - S. Caterina Valfurva
DESCRIPTION:
URL:https://www.cairovagnate.it/event/sciistica-famiglie-s-caterina-valfurva/
CATEGORIES:Attività sociali
ATTACH;FMTTYPE=image/png:https://www.cairovagnate.it/wp-content/uploads/2024/01/Screenshot-2024-01-08-100905.png
END:VEVENT
BEGIN:VEVENT
DTSTART;VALUE=DATE:20260419
DTEND;VALUE=DATE:20260420
DTSTAMP:20260420T081037
CREATED:20260131T122748Z
LAST-MODIFIED:20260131T122748Z
UID:931-1776556800-1776643199@www.cairovagnate.it
SUMMARY:Rovascarpa 2026
DESCRIPTION:
URL:https://www.cairovagnate.it/event/rovascarpa-2026/
CATEGORIES:Attività sociali
END:VEVENT
END:VCALENDAR